BEGIN:VCALENDAR
VERSION:2.0
PRODID:-//hacksw/handcal//NONSGML v1.0//EN
CALSCALE:GREGORIAN
BEGIN:VEVENT
SUMMARY:Die Toten Hosen - Das letzte Album
DTSTART:20260519T181500Z
DTEND:20260519T201900Z
GEO:51.07124;13.75051
LOCATION:Filmtheater Schauburg\, Königsbrücker Straße 55\, 01099 Dresden
DESCRIPTION:
URL;VALUE=URI:http://umland.kika-dresden.de/termin1600766.html
DTSTAMP:20260425T203515Z
UID:69ed2583e7879
END:VEVENT
END:VCALENDAR