BEGIN:VCALENDAR
VERSION:2.0
PRODID:-//hacksw/handcal//NONSGML v1.0//EN
CALSCALE:GREGORIAN
BEGIN:VEVENT
SUMMARY:Der Super Mario Galaxy Film
DTSTART:20260429T153000Z
DTEND:20260429T173800Z
GEO:50.962054,13.934694
LOCATION:Filmpalast Pirna\, Gartenstraße 11\, 01796 Pirna
DESCRIPTION:
URL;VALUE=URI:http://umland.kika-dresden.de/termin1600684.html
DTSTAMP:20260424T004304Z
UID:69eabc9815939
END:VEVENT
END:VCALENDAR