BEGIN:VCALENDAR
VERSION:2.0
PRODID:-//hacksw/handcal//NONSGML v1.0//EN
CALSCALE:GREGORIAN
BEGIN:VEVENT
SUMMARY:Horst Schlämmer sucht das Glück
DTSTART:20260427T154500Z
DTEND:20260427T175500Z
GEO:50.962054,13.934694
LOCATION:Filmpalast Pirna\, Gartenstraße 11\, 01796 Pirna
DESCRIPTION:
URL;VALUE=URI:http://umland.kika-dresden.de/termin1600644.html
DTSTAMP:20260424T093202Z
UID:69eb3892be62d
END:VEVENT
END:VCALENDAR