BEGIN:VCALENDAR
VERSION:2.0
PRODID:-//hacksw/handcal//NONSGML v1.0//EN
CALSCALE:GREGORIAN
BEGIN:VEVENT
SUMMARY:Meine Wiedergeburt als Schleim in einer anderen Welt\, Der Film: Tränen des azurblauen Meers
DTSTART:20260428T154500Z
DTEND:20260428T180900Z
GEO:50.907852,13.317505
LOCATION:Kinopolis Freiberg\, Chemnitzer Strasse 133\, 09599 Freiberg
DESCRIPTION:
URL;VALUE=URI:http://umland.kika-dresden.de/termin1600579.html
DTSTAMP:20260423T062054Z
UID:69e9ba464b86b
END:VEVENT
END:VCALENDAR