BEGIN:VCALENDAR
VERSION:2.0
PRODID:-//hacksw/handcal//NONSGML v1.0//EN
CALSCALE:GREGORIAN
BEGIN:VEVENT
SUMMARY:Der Super Mario Galaxy Film
DTSTART:20260426T131500Z
DTEND:20260426T152300Z
GEO:50.907852,13.317505
LOCATION:Kinopolis Freiberg\, Chemnitzer Strasse 133\, 09599 Freiberg
DESCRIPTION:
URL;VALUE=URI:http://umland.kika-dresden.de/termin1600554.html
DTSTAMP:20260423T140822Z
UID:69ea27d6050fb
END:VEVENT
END:VCALENDAR