BEGIN:VCALENDAR
VERSION:2.0
PRODID:-//hacksw/handcal//NONSGML v1.0//EN
CALSCALE:GREGORIAN
BEGIN:VEVENT
SUMMARY:Woodwalkers 2
DTSTART:20260426T143000Z
DTEND:20260426T164300Z
GEO:51.05182;13.80533
LOCATION:CinemaxX\, Hüblerstr. 8\, 01309 Dresden
DESCRIPTION:
URL;VALUE=URI:http://umland.kika-dresden.de/termin1600497.html
DTSTAMP:20260424T004325Z
UID:69eabcad49d21
END:VEVENT
END:VCALENDAR