BEGIN:VCALENDAR
VERSION:2.0
PRODID:-//hacksw/handcal//NONSGML v1.0//EN
CALSCALE:GREGORIAN
BEGIN:VEVENT
SUMMARY:Meine Freundin Conni - Geheimnis um Kater Mau
DTSTART:20260425T080000Z
DTEND:20260425T094600Z
GEO:51.05182;13.80533
LOCATION:CinemaxX\, Hüblerstr. 8\, 01309 Dresden
DESCRIPTION:
URL;VALUE=URI:http://umland.kika-dresden.de/termin1600455.html
DTSTAMP:20260423T061955Z
UID:69e9ba0b29816
END:VEVENT
END:VCALENDAR