BEGIN:VCALENDAR
VERSION:2.0
PRODID:-//hacksw/handcal//NONSGML v1.0//EN
CALSCALE:GREGORIAN
BEGIN:VEVENT
SUMMARY:Woodwalkers 2
DTSTART:20260424T124000Z
DTEND:20260424T145300Z
GEO:51.08285;13.69562
LOCATION:UCI-Kinowelt\, Lommatzscher Straße 82\, Elbepark\, 01139 Dresden-Mickten
DESCRIPTION:
URL;VALUE=URI:http://umland.kika-dresden.de/termin1599988.html
DTSTAMP:20260424T045303Z
UID:69eaf72fb8935
END:VEVENT
END:VCALENDAR