BEGIN:VCALENDAR
VERSION:2.0
PRODID:-//hacksw/handcal//NONSGML v1.0//EN
CALSCALE:GREGORIAN
BEGIN:VEVENT
SUMMARY:How to Make a Killing: Todsicheres Erbe
DTSTART:20260427T144000Z
DTEND:20260427T165500Z
GEO:51.08285;13.69562
LOCATION:UCI-Kinowelt\, Lommatzscher Straße 82\, Elbepark\, 01139 Dresden-Mickten
DESCRIPTION:
URL;VALUE=URI:http://umland.kika-dresden.de/termin1599902.html
DTSTAMP:20260423T074914Z
UID:69e9cefa2652c
END:VEVENT
END:VCALENDAR