BEGIN:VCALENDAR
VERSION:2.0
PRODID:-//hacksw/handcal//NONSGML v1.0//EN
CALSCALE:GREGORIAN
BEGIN:VEVENT
SUMMARY:Das Kanu des Manitu
DTSTART:20260428T121000Z
DTEND:20260428T140800Z
GEO:51.08285;13.69562
LOCATION:UCI-Kinowelt\, Lommatzscher Straße 82\, Elbepark\, 01139 Dresden-Mickten
DESCRIPTION:
URL;VALUE=URI:http://umland.kika-dresden.de/termin1599754.html
DTSTAMP:20260424T004319Z
UID:69eabca7c043a
END:VEVENT
END:VCALENDAR