BEGIN:VCALENDAR
VERSION:2.0
PRODID:-//hacksw/handcal//NONSGML v1.0//EN
CALSCALE:GREGORIAN
BEGIN:VEVENT
SUMMARY:Der Magier im Kreml
DTSTART:20260421T173000Z
DTEND:20260421T202500Z
GEO:51.07124;13.75051
LOCATION:Filmtheater Schauburg\, Königsbrücker Straße 55\, 01099 Dresden
DESCRIPTION:
URL;VALUE=URI:http://umland.kika-dresden.de/termin1599721.html
DTSTAMP:20260425T170435Z
UID:69ecf4238a272
END:VEVENT
END:VCALENDAR