BEGIN:VCALENDAR
VERSION:2.0
PRODID:-//hacksw/handcal//NONSGML v1.0//EN
CALSCALE:GREGORIAN
BEGIN:VEVENT
SUMMARY:Die reichste Frau der Welt
DTSTART:20260428T154500Z
DTEND:20260428T181600Z
GEO:51.03911;13.80653
LOCATION:Programmkino Ost\, Schandauer Straße 73\, 01277 Dresden-Striesen
DESCRIPTION:
URL;VALUE=URI:http://umland.kika-dresden.de/termin1599630.html
DTSTAMP:20260425T105809Z
UID:69ec9e4183184
END:VEVENT
END:VCALENDAR