BEGIN:VCALENDAR
VERSION:2.0
PRODID:-//hacksw/handcal//NONSGML v1.0//EN
CALSCALE:GREGORIAN
BEGIN:VEVENT
SUMMARY:Die reichste Frau der Welt
DTSTART:20260425T131500Z
DTEND:20260425T154600Z
GEO:51.03911;13.80653
LOCATION:Programmkino Ost\, Schandauer Straße 73\, 01277 Dresden-Striesen
DESCRIPTION:
URL;VALUE=URI:http://umland.kika-dresden.de/termin1599623.html
DTSTAMP:20260424T004331Z
UID:69eabcb35b26d
END:VEVENT
END:VCALENDAR