BEGIN:VCALENDAR
VERSION:2.0
PRODID:-//hacksw/handcal//NONSGML v1.0//EN
CALSCALE:GREGORIAN
BEGIN:VEVENT
SUMMARY:The History Of Sound
DTSTART:20260422T155000Z
DTEND:20260422T182900Z
GEO:51.03911;13.80653
LOCATION:Programmkino Ost\, Schandauer Straße 73\, 01277 Dresden-Striesen
DESCRIPTION:
URL;VALUE=URI:http://umland.kika-dresden.de/termin1599557.html
DTSTAMP:20260421T173407Z
UID:69e7b50f628bf
END:VEVENT
END:VCALENDAR