BEGIN:VCALENDAR
VERSION:2.0
PRODID:-//hacksw/handcal//NONSGML v1.0//EN
CALSCALE:GREGORIAN
BEGIN:VEVENT
SUMMARY:Für immer ein Teil von dir - Reminders of Him
DTSTART:20260423T180000Z
DTEND:20260423T202500Z
GEO:51.291776,13.532592
LOCATION:Filmgalerie Großenhain\, Am Frauenmarkt 9\, 01558 Großenhain
DESCRIPTION:
URL;VALUE=URI:http://umland.kika-dresden.de/termin1599522.html
DTSTAMP:20260424T053039Z
UID:69eaffff3789c
END:VEVENT
END:VCALENDAR