BEGIN:VCALENDAR
VERSION:2.0
PRODID:-//hacksw/handcal//NONSGML v1.0//EN
CALSCALE:GREGORIAN
BEGIN:VEVENT
SUMMARY:Michael
DTSTART:20260428T151500Z
DTEND:20260428T175500Z
GEO:51.291776,13.532592
LOCATION:Filmgalerie Großenhain\, Am Frauenmarkt 9\, 01558 Großenhain
DESCRIPTION:
URL;VALUE=URI:http://umland.kika-dresden.de/termin1599512.html
DTSTAMP:20260424T233859Z
UID:69ebff134c1fb
END:VEVENT
END:VCALENDAR