BEGIN:VCALENDAR
VERSION:2.0
PRODID:-//hacksw/handcal//NONSGML v1.0//EN
CALSCALE:GREGORIAN
BEGIN:VEVENT
SUMMARY:Zwischen Uns Das Meer
DTSTART:20260428T153000Z
DTEND:20260428T175700Z
GEO:51.052574;13.721402
LOCATION:Zentralkino\, Kraftwerk Mitte 16\, 01067 Dresden-Mitte
DESCRIPTION:
URL;VALUE=URI:http://umland.kika-dresden.de/termin1599492.html
DTSTAMP:20260421T151626Z
UID:69e794ca5c803
END:VEVENT
END:VCALENDAR