BEGIN:VCALENDAR
VERSION:2.0
PRODID:-//hacksw/handcal//NONSGML v1.0//EN
CALSCALE:GREGORIAN
BEGIN:VEVENT
SUMMARY:Die Reichste Frau Der Welt
DTSTART:20260428T133000Z
DTEND:20260428T160100Z
GEO:51.052574;13.721402
LOCATION:Zentralkino\, Kraftwerk Mitte 16\, 01067 Dresden-Mitte
DESCRIPTION:
URL;VALUE=URI:http://umland.kika-dresden.de/termin1599487.html
DTSTAMP:20260423T153345Z
UID:69ea3bd98b19a
END:VEVENT
END:VCALENDAR