BEGIN:VCALENDAR
VERSION:2.0
PRODID:-//hacksw/handcal//NONSGML v1.0//EN
CALSCALE:GREGORIAN
BEGIN:VEVENT
SUMMARY:Allegro Pastell
DTSTART:20260424T184500Z
DTEND:20260424T205500Z
GEO:51.052574;13.721402
LOCATION:Zentralkino\, Kraftwerk Mitte 16\, 01067 Dresden-Mitte
DESCRIPTION:
URL;VALUE=URI:http://umland.kika-dresden.de/termin1599474.html
DTSTAMP:20260421T193935Z
UID:69e7d2771049f
END:VEVENT
END:VCALENDAR