BEGIN:VCALENDAR
VERSION:2.0
PRODID:-//hacksw/handcal//NONSGML v1.0//EN
CALSCALE:GREGORIAN
BEGIN:VEVENT
SUMMARY:Vier minus Drei
DTSTART:20260429T153000Z
DTEND:20260429T180000Z
GEO:51.052574;13.721402
LOCATION:Zentralkino\, Kraftwerk Mitte 16\, 01067 Dresden-Mitte
DESCRIPTION:
URL;VALUE=URI:http://umland.kika-dresden.de/termin1599472.html
DTSTAMP:20260426T032531Z
UID:69ed85abb10c5
END:VEVENT
END:VCALENDAR