BEGIN:VCALENDAR
VERSION:2.0
PRODID:-//hacksw/handcal//NONSGML v1.0//EN
CALSCALE:GREGORIAN
BEGIN:VEVENT
SUMMARY:Der Magier Im Kreml
DTSTART:20260429T171500Z
DTEND:20260429T201000Z
GEO:51.052574;13.721402
LOCATION:Zentralkino\, Kraftwerk Mitte 16\, 01067 Dresden-Mitte
DESCRIPTION:
URL;VALUE=URI:http://umland.kika-dresden.de/termin1599465.html
DTSTAMP:20260425T133142Z
UID:69ecc23eac774
END:VEVENT
END:VCALENDAR