BEGIN:VCALENDAR
VERSION:2.0
PRODID:-//hacksw/handcal//NONSGML v1.0//EN
CALSCALE:GREGORIAN
BEGIN:VEVENT
SUMMARY:Ach\, diese Lücke\, diese entsetzliche Lücke
DTSTART:20260425T180000Z
DTEND:20260425T204700Z
GEO:51.026807,14.214717
LOCATION:Neustadt Grenzland-Lichtspiele\, Markt 5\, 01844 Neustadt/Sa
DESCRIPTION:
URL;VALUE=URI:http://umland.kika-dresden.de/termin1599455.html
DTSTAMP:20260424T045811Z
UID:69eaf863e3525
END:VEVENT
END:VCALENDAR