BEGIN:VCALENDAR
VERSION:2.0
PRODID:-//hacksw/handcal//NONSGML v1.0//EN
CALSCALE:GREGORIAN
BEGIN:VEVENT
SUMMARY:Tierisch abgefahren - Rettet die Pets
DTSTART:20260425T134500Z
DTEND:20260425T154200Z
GEO:51.026807,14.214717
LOCATION:Neustadt Grenzland-Lichtspiele\, Markt 5\, 01844 Neustadt/Sa
DESCRIPTION:
URL;VALUE=URI:http://umland.kika-dresden.de/termin1599443.html
DTSTAMP:20260424T220744Z
UID:69ebe9b042ca1
END:VEVENT
END:VCALENDAR