BEGIN:VCALENDAR
VERSION:2.0
PRODID:-//hacksw/handcal//NONSGML v1.0//EN
CALSCALE:GREGORIAN
BEGIN:VEVENT
SUMMARY:The History of Sound (OmdU)
DTSTART:20260427T174500Z
DTEND:20260427T202200Z
GEO:51.06687;13.75428
LOCATION:Thalia\, Görlitzer Str. 6\, 01099 Dresden-Neustadt
DESCRIPTION:
URL;VALUE=URI:http://umland.kika-dresden.de/termin1599418.html
DTSTAMP:20260424T045350Z
UID:69eaf75ea257d
END:VEVENT
END:VCALENDAR