BEGIN:VCALENDAR
VERSION:2.0
PRODID:-//hacksw/handcal//NONSGML v1.0//EN
CALSCALE:GREGORIAN
BEGIN:VEVENT
SUMMARY:Horst Schlämmer sucht das Glück
DTSTART:20260417T160000Z
GEO:51.05182;13.80533
LOCATION:CinemaxX\, Hüblerstr. 8\, 01309 Dresden
DESCRIPTION:
URL;VALUE=URI:http://umland.kika-dresden.de/termin1599303.html
DTSTAMP:20260420T083106Z
UID:69e5e44ac0f49
END:VEVENT
END:VCALENDAR