BEGIN:VCALENDAR
VERSION:2.0
PRODID:-//hacksw/handcal//NONSGML v1.0//EN
CALSCALE:GREGORIAN
BEGIN:VEVENT
SUMMARY:Horst Schlämmer sucht das Glück
DTSTART:20260418T153000Z
DTEND:20260418T174000Z
GEO:51.291776,13.532592
LOCATION:Filmgalerie Großenhain\, Am Frauenmarkt 9\, 01558 Großenhain
DESCRIPTION:
URL;VALUE=URI:http://umland.kika-dresden.de/termin1599133.html
DTSTAMP:20260420T125801Z
UID:69e622d9d47ce
END:VEVENT
END:VCALENDAR