BEGIN:VCALENDAR
VERSION:2.0
PRODID:-//hacksw/handcal//NONSGML v1.0//EN
CALSCALE:GREGORIAN
BEGIN:VEVENT
SUMMARY:BTS WORLD TOUR 'ARIRANG' IN JAPAN: LIVE VIEWING korea.)
DTSTART:20260418T094500Z
DTEND:20260418T133000Z
GEO:50.907852,13.317505
LOCATION:Kinopolis Freiberg\, Chemnitzer Strasse 133\, 09599 Freiberg
DESCRIPTION:
URL;VALUE=URI:http://umland.kika-dresden.de/termin1599127.html
DTSTAMP:20260420T084721Z
UID:69e5e81953e10
END:VEVENT
END:VCALENDAR