BEGIN:VCALENDAR
VERSION:2.0
PRODID:-//hacksw/handcal//NONSGML v1.0//EN
CALSCALE:GREGORIAN
BEGIN:VEVENT
SUMMARY:Für immer ein Teil von dir - Reminders of Him
DTSTART:20260417T175000Z
GEO:50.907852,13.317505
LOCATION:Kinopolis Freiberg\, Chemnitzer Strasse 133\, 09599 Freiberg
DESCRIPTION:
URL;VALUE=URI:http://umland.kika-dresden.de/termin1599103.html
DTSTAMP:20260419T133444Z
UID:69e4d9f40ad0b
END:VEVENT
END:VCALENDAR