BEGIN:VCALENDAR
VERSION:2.0
PRODID:-//hacksw/handcal//NONSGML v1.0//EN
CALSCALE:GREGORIAN
BEGIN:VEVENT
SUMMARY:Gelbe Briefe
DTSTART:20260418T180000Z
DTEND:20260418T203800Z
GEO:50.907852,13.317505
LOCATION:Kinopolis Freiberg\, Chemnitzer Strasse 133\, 09599 Freiberg
DESCRIPTION:
URL;VALUE=URI:http://umland.kika-dresden.de/termin1599080.html
DTSTAMP:20260419T214949Z
UID:69e54dfdb9d9e
END:VEVENT
END:VCALENDAR