BEGIN:VCALENDAR
VERSION:2.0
PRODID:-//hacksw/handcal//NONSGML v1.0//EN
CALSCALE:GREGORIAN
BEGIN:VEVENT
SUMMARY:Michael
DTSTART:20260422T180000Z
DTEND:20260422T204000Z
GEO:50.962054,13.934694
LOCATION:Filmpalast Pirna\, Gartenstraße 11\, 01796 Pirna
DESCRIPTION:
URL;VALUE=URI:http://umland.kika-dresden.de/termin1598979.html
DTSTAMP:20260420T123433Z
UID:69e61d5998190
END:VEVENT
END:VCALENDAR