BEGIN:VCALENDAR
VERSION:2.0
PRODID:-//hacksw/handcal//NONSGML v1.0//EN
CALSCALE:GREGORIAN
BEGIN:VEVENT
SUMMARY:Lee Cronin's The Mummy
DTSTART:20260422T145000Z
GEO:51.04384;13.73755
LOCATION:Cineplex Kristallpalast Dresden\, St. Petersburger Straße 24a\, 01069 Dresden
DESCRIPTION:
URL;VALUE=URI:http://umland.kika-dresden.de/termin1598890.html
DTSTAMP:20260420T112053Z
UID:69e60c153d245
END:VEVENT
END:VCALENDAR