BEGIN:VCALENDAR
VERSION:2.0
PRODID:-//hacksw/handcal//NONSGML v1.0//EN
CALSCALE:GREGORIAN
BEGIN:VEVENT
SUMMARY:Der Astronaut - Project Hail Mary
DTSTART:20260419T120000Z
DTEND:20260419T150600Z
GEO:51.04487;13.73697
LOCATION:Rundkino Dresden\, Prager Straße 6\, 01069 Dresden
DESCRIPTION:
URL;VALUE=URI:http://umland.kika-dresden.de/termin1598626.html
DTSTAMP:20260420T083557Z
UID:69e5e56d8e3c2
END:VEVENT
END:VCALENDAR