BEGIN:VCALENDAR
VERSION:2.0
PRODID:-//hacksw/handcal//NONSGML v1.0//EN
CALSCALE:GREGORIAN
BEGIN:VEVENT
SUMMARY:Ready or Not 2
DTSTART:20260417T181000Z
DTEND:20260417T201000Z
GEO:51.08285;13.69562
LOCATION:UCI-Kinowelt\, Lommatzscher Straße 82\, Elbepark\, 01139 Dresden-Mickten
DESCRIPTION:
URL;VALUE=URI:http://umland.kika-dresden.de/termin1598586.html
DTSTAMP:20260419T174058Z
UID:69e513aa7a859
END:VEVENT
END:VCALENDAR