BEGIN:VCALENDAR
VERSION:2.0
PRODID:-//hacksw/handcal//NONSGML v1.0//EN
CALSCALE:GREGORIAN
BEGIN:VEVENT
SUMMARY:Kill Bill: The Whole Bloody Affair
DTSTART:20260418T120500Z
DTEND:20260418T171000Z
GEO:51.08285;13.69562
LOCATION:UCI-Kinowelt\, Lommatzscher Straße 82\, Elbepark\, 01139 Dresden-Mickten
DESCRIPTION:
URL;VALUE=URI:http://umland.kika-dresden.de/termin1598534.html
DTSTAMP:20260420T083154Z
UID:69e5e47aefbfa
END:VEVENT
END:VCALENDAR