BEGIN:VCALENDAR
VERSION:2.0
PRODID:-//hacksw/handcal//NONSGML v1.0//EN
CALSCALE:GREGORIAN
BEGIN:VEVENT
SUMMARY:Das Kanu des Manitu
DTSTART:20260420T142000Z
DTEND:20260420T161800Z
GEO:51.08285;13.69562
LOCATION:UCI-Kinowelt\, Lommatzscher Straße 82\, Elbepark\, 01139 Dresden-Mickten
DESCRIPTION:
URL;VALUE=URI:http://umland.kika-dresden.de/termin1598353.html
DTSTAMP:20260420T083544Z
UID:69e5e5602735c
END:VEVENT
END:VCALENDAR