BEGIN:VCALENDAR
VERSION:2.0
PRODID:-//hacksw/handcal//NONSGML v1.0//EN
CALSCALE:GREGORIAN
BEGIN:VEVENT
SUMMARY:Vier minus drei
DTSTART:20260420T130000Z
DTEND:20260420T153100Z
GEO:51.03911;13.80653
LOCATION:Programmkino Ost\, Schandauer Straße 73\, 01277 Dresden-Striesen
DESCRIPTION:
URL;VALUE=URI:http://umland.kika-dresden.de/termin1598261.html
DTSTAMP:20260420T130427Z
UID:69e6245b5ba07
END:VEVENT
END:VCALENDAR