BEGIN:VCALENDAR
VERSION:2.0
PRODID:-//hacksw/handcal//NONSGML v1.0//EN
CALSCALE:GREGORIAN
BEGIN:VEVENT
SUMMARY:Wuthering Heights - Sturmhöhe
DTSTART:20260419T174500Z
DTEND:20260419T203100Z
GEO:51.026807,14.214717
LOCATION:Neustadt Grenzland-Lichtspiele\, Markt 5\, 01844 Neustadt/Sa
DESCRIPTION:
URL;VALUE=URI:http://umland.kika-dresden.de/termin1598146.html
DTSTAMP:20260422T115102Z
UID:69e8b626dc0ac
END:VEVENT
END:VCALENDAR