BEGIN:VCALENDAR
VERSION:2.0
PRODID:-//hacksw/handcal//NONSGML v1.0//EN
CALSCALE:GREGORIAN
BEGIN:VEVENT
SUMMARY:Das Flüstern der Wälder
DTSTART:20260419T160000Z
DTEND:20260419T180300Z
GEO:51.026807,14.214717
LOCATION:Neustadt Grenzland-Lichtspiele\, Markt 5\, 01844 Neustadt/Sa
DESCRIPTION:
URL;VALUE=URI:http://umland.kika-dresden.de/termin1598143.html
DTSTAMP:20260419T204854Z
UID:69e53fb69ca24
END:VEVENT
END:VCALENDAR