BEGIN:VCALENDAR
VERSION:2.0
PRODID:-//hacksw/handcal//NONSGML v1.0//EN
CALSCALE:GREGORIAN
BEGIN:VEVENT
SUMMARY:G.O.A.T. - Bock auf Große Sprünge
DTSTART:20260418T140000Z
DTEND:20260418T161000Z
GEO:51.026807,14.214717
LOCATION:Neustadt Grenzland-Lichtspiele\, Markt 5\, 01844 Neustadt/Sa
DESCRIPTION:
URL;VALUE=URI:http://umland.kika-dresden.de/termin1598136.html
DTSTAMP:20260419T140727Z
UID:69e4e19f5ef3d
END:VEVENT
END:VCALENDAR