BEGIN:VCALENDAR
VERSION:2.0
PRODID:-//hacksw/handcal//NONSGML v1.0//EN
CALSCALE:GREGORIAN
BEGIN:VEVENT
SUMMARY:Siri Hustvedt - Dance Around the Self
DTSTART:20260420T160000Z
DTEND:20260420T182500Z
GEO:51.06687;13.75428
LOCATION:Thalia\, Görlitzer Str. 6\, 01099 Dresden-Neustadt
DESCRIPTION:
URL;VALUE=URI:http://umland.kika-dresden.de/termin1598085.html
DTSTAMP:20260420T063427Z
UID:69e5c8f3ce79d
END:VEVENT
END:VCALENDAR