BEGIN:VCALENDAR
VERSION:2.0
PRODID:-//hacksw/handcal//NONSGML v1.0//EN
CALSCALE:GREGORIAN
BEGIN:VEVENT
SUMMARY:Der Super Mario Galaxy Film
DTSTART:20260415T130000Z
DTEND:20260415T150800Z
GEO:50.907852,13.317505
LOCATION:Kinopolis Freiberg\, Chemnitzer Strasse 133\, 09599 Freiberg
DESCRIPTION:
URL;VALUE=URI:http://umland.kika-dresden.de/termin1596612.html
DTSTAMP:20260421T025845Z
UID:69e6e7e5bd9db
END:VEVENT
END:VCALENDAR