BEGIN:VCALENDAR
VERSION:2.0
PRODID:-//hacksw/handcal//NONSGML v1.0//EN
CALSCALE:GREGORIAN
BEGIN:VEVENT
SUMMARY:Ein fast perfekter Antrag
DTSTART:20260331T122000Z
DTEND:20260331T143500Z
GEO:51.04487;13.73697
LOCATION:Rundkino Dresden\, Prager Straße 6\, 01069 Dresden
DESCRIPTION:
URL;VALUE=URI:http://umland.kika-dresden.de/termin1595498.html
DTSTAMP:20260419T174023Z
UID:69e513876c523
END:VEVENT
END:VCALENDAR