BEGIN:VCALENDAR
VERSION:2.0
PRODID:-//hacksw/handcal//NONSGML v1.0//EN
CALSCALE:GREGORIAN
BEGIN:VEVENT
SUMMARY:Lustiges Pettersson und Findus Mitmachkino 2
DTSTART:20260404T100000Z
DTEND:20260404T113000Z
GEO:50.907852,13.317505
LOCATION:Kinopolis Freiberg\, Chemnitzer Strasse 133\, 09599 Freiberg
DESCRIPTION:
URL;VALUE=URI:http://umland.kika-dresden.de/termin1595393.html
DTSTAMP:20260422T085328Z
UID:69e88c886499e
END:VEVENT
END:VCALENDAR