BEGIN:VCALENDAR
VERSION:2.0
PRODID:-//hacksw/handcal//NONSGML v1.0//EN
CALSCALE:GREGORIAN
BEGIN:VEVENT
SUMMARY:SpongeBob Schwammkopf: Piraten Ahoi!
DTSTART:20260403T080000Z
DTEND:20260403T095900Z
GEO:50.907852,13.317505
LOCATION:Kinopolis Freiberg\, Chemnitzer Strasse 133\, 09599 Freiberg
DESCRIPTION:
URL;VALUE=URI:http://umland.kika-dresden.de/termin1595381.html
DTSTAMP:20260422T115237Z
UID:69e8b685e63ec
END:VEVENT
END:VCALENDAR