BEGIN:VCALENDAR
VERSION:2.0
PRODID:-//hacksw/handcal//NONSGML v1.0//EN
CALSCALE:GREGORIAN
BEGIN:VEVENT
SUMMARY:Marty Supreme
DTSTART:20260330T190000Z
DTEND:20260330T220000Z
GEO:51.07124;13.75051
LOCATION:Filmtheater Schauburg\, Königsbrücker Straße 55\, 01099 Dresden
DESCRIPTION:
URL;VALUE=URI:http://umland.kika-dresden.de/termin1594650.html
DTSTAMP:20260423T140709Z
UID:69ea278d86005
END:VEVENT
END:VCALENDAR