BEGIN:VCALENDAR
VERSION:2.0
PRODID:-//hacksw/handcal//NONSGML v1.0//EN
CALSCALE:GREGORIAN
BEGIN:VEVENT
SUMMARY:Blue Moon
DTSTART:20260329T173000Z
DTEND:20260329T194100Z
GEO:51.07124;13.75051
LOCATION:Filmtheater Schauburg\, Königsbrücker Straße 55\, 01099 Dresden
DESCRIPTION:
URL;VALUE=URI:http://umland.kika-dresden.de/termin1594633.html
DTSTAMP:20260422T115015Z
UID:69e8b5f79d08c
END:VEVENT
END:VCALENDAR