BEGIN:VCALENDAR
VERSION:2.0
PRODID:-//hacksw/handcal//NONSGML v1.0//EN
CALSCALE:GREGORIAN
BEGIN:VEVENT
SUMMARY:Gelbe Briefe
DTSTART:20260325T103000Z
DTEND:20260325T130800Z
GEO:51.07124;13.75051
LOCATION:Filmtheater Schauburg\, Königsbrücker Straße 55\, 01099 Dresden
DESCRIPTION:
URL;VALUE=URI:http://umland.kika-dresden.de/termin1593259.html
DTSTAMP:20260420T100347Z
UID:69e5fa03b69a9
END:VEVENT
END:VCALENDAR