BEGIN:VCALENDAR
VERSION:2.0
PRODID:-//hacksw/handcal//NONSGML v1.0//EN
CALSCALE:GREGORIAN
BEGIN:VEVENT
SUMMARY:One Battle After Another
DTSTART:20260325T163000Z
DTEND:20260325T194200Z
GEO:51.07124;13.75051
LOCATION:Filmtheater Schauburg\, Königsbrücker Straße 55\, 01099 Dresden
DESCRIPTION:
URL;VALUE=URI:http://umland.kika-dresden.de/termin1593253.html
DTSTAMP:20260424T081832Z
UID:69eb27584812d
END:VEVENT
END:VCALENDAR