BEGIN:VCALENDAR
VERSION:2.0
PRODID:-//hacksw/handcal//NONSGML v1.0//EN
CALSCALE:GREGORIAN
BEGIN:VEVENT
SUMMARY:Bluey im Kino: Playdates-Kollektion
DTSTART:20260329T085000Z
GEO:50.907852,13.317505
LOCATION:Kinopolis Freiberg\, Chemnitzer Strasse 133\, 09599 Freiberg
DESCRIPTION:
URL;VALUE=URI:http://umland.kika-dresden.de/termin1593155.html
DTSTAMP:20260424T062044Z
UID:69eb0bbcc9f89
END:VEVENT
END:VCALENDAR