BEGIN:VCALENDAR
VERSION:2.0
PRODID:-//hacksw/handcal//NONSGML v1.0//EN
CALSCALE:GREGORIAN
BEGIN:VEVENT
SUMMARY:Ach\, diese Lücke\, diese entsetzliche Lücke
DTSTART:20260324T153000Z
DTEND:20260324T181700Z
GEO:51.07124;13.75051
LOCATION:Filmtheater Schauburg\, Königsbrücker Straße 55\, 01099 Dresden
DESCRIPTION:
URL;VALUE=URI:http://umland.kika-dresden.de/termin1592936.html
DTSTAMP:20260425T222043Z
UID:69ed3e3b1f5c8
END:VEVENT
END:VCALENDAR